BEGIN:VCALENDAR
VERSION:2.0
PRODID:-//Brommerritten.nl - ECPv6.9.0//NONSGML v1.0//EN
CALSCALE:GREGORIAN
METHOD:PUBLISH
X-ORIGINAL-URL:https://brommerritten.nl
X-WR-CALDESC:Evenementen voor Brommerritten.nl
REFRESH-INTERVAL;VALUE=DURATION:PT1H
X-Robots-Tag:noindex
X-PUBLISHED-TTL:PT1H
BEGIN:VTIMEZONE
TZID:Europe/Amsterdam
BEGIN:DAYLIGHT
TZOFFSETFROM:+0100
TZOFFSETTO:+0200
TZNAME:CEST
DTSTART:20250330T010000
END:DAYLIGHT
BEGIN:STANDARD
TZOFFSETFROM:+0200
TZOFFSETTO:+0100
TZNAME:CET
DTSTART:20251026T010000
END:STANDARD
END:VTIMEZONE
BEGIN:VEVENT
DTSTART;TZID=Europe/Amsterdam:20250524T080000
DTEND;TZID=Europe/Amsterdam:20250524T170000
DTSTAMP:20260423T034833
CREATED:20250512T120840Z
LAST-MODIFIED:20250512T120840Z
UID:2581-1748073600-1748106000@brommerritten.nl
SUMMARY:Rondje Nostalgie Garmerwolde
DESCRIPTION:  \n\nAanmelden oldtimer en markt\n\n\nLangs de route is er een markt en ruimte voor allerlei soorten oldtimers: klassieke auto’s\, oude tractoren\, trucks\, fietsen\, motorfietsen\, brommers\, boten en stationaire motoren. \nOok ú bent welkom! \nAls dank voor u deelname verstrekken we gratis een lunchpakket (maximaal 2 lunchpakketten per aanmelding).
URL:https://brommerritten.nl/ritten/rondje-nostalgie-garmerwolde/
LOCATION:Oude Rijksweg 6 Garmerwolde
CATEGORIES:Auto,Bromfiets,Motor,Tractor,Truck
ATTACH;FMTTYPE=image/jpeg:https://brommerritten.nl/wp-content/uploads/2025/05/480800047_961781346078033_3426808448517782937_n.jpg
END:VEVENT
BEGIN:VEVENT
DTSTART;TZID=Europe/Amsterdam:20250524T100000
DTEND;TZID=Europe/Amsterdam:20250524T160000
DTSTAMP:20260423T034833
CREATED:20240329T145227Z
LAST-MODIFIED:20250323T115528Z
UID:970-1748080800-1748102400@brommerritten.nl
SUMMARY:Oldtimerdag Nieuwe-Tonge
DESCRIPTION:Oldtimerrit zaterdag 25 mei 2024\n\n\n\nOp zaterdag 25 mei 2024 willen wij onze eerste oldtimerrit gaan organiseren.\nDe rit heeft over het algemeen een lengte van plus/minus 110 km en wordt zoveel mogelijk in colonne verreden en voert u zoveel mogelijk via mooie binnenwegen over het (voormalig) eiland Goeree Overflakkee of één van de naburige eilanden. \nDeze route zal starten vanuit zorgboerderij Geusje’s Stee in Nieuwe Tonge. \nGraag willen wij de cliënten van de zorgboerderij een leuke dag laten beleven door middel van oldtimers. Wij willen graag de cliënten mee laten rijden in de oldtimers. U kunt bij uw aanmelding aangeven of u hier toestemming voor geeft. \nVoor het aanmelden van de oldtimerrit vragen wij een bedrag van € 10\,-\nU krijgt hiervoor: \n– Een rallybordje \n– Koffie met wat lekkers (ochtend) \n– Lunchpakket \nDe oldtimers kunnen rond 09:00 uur verzameld worden op het terrein. Rond 10:00 uur zullen wij wegrijden. Om 12:30 uur zullen wij een pauze hebben van een uur. Om 16:00 uur worden de oldtimers weer verzameld bij de zorgboerderij. \nVrijwaringsregels: \nDe bestuurder/eigenaar van het deelnemende voertuig heeft een geldige verzekering met minimaal WA en APK (indien van toepassing). \nDeelname gebeurt op eigen risico\, de organisatie kan dan ook niet aansprakelijk gesteld worden voor\, verkeersboetes – schades en of lichamelijk letsel\, in welke vorm dan ook. \nWij hebben de route bepaald voor deze dag en deze zal in totaal 110km worden. \nDeze route delen wij op de dag uit en deze zal gaan volgens de bol-pijl-methode. \nWe beginnen om 09:00 uur bij zorgboerderij Geusje’s Stee met een bak koffie. \nTussentijds worden de cliënten voorgesteld aan de bestuurders (die dit hebben aangegeven). \nOok zullen de routes en de rallybordjes uitgedeeld worden. \nRond 10:00 uur zal de rondrit beginnen. \nDe route zal over het eiland zijn en we hebben een aantal stopplaatsen op meerdere punten. \nOp deze stopplaatsen is er ruimte om even uit te stappen\, een klein praatje te maken en eventueel de cliënten van auto te laten wisselen. \nTussen 12:00 en 13:00 uur zullen wij halverwege stoppen voor een lunchpauze\, wij hebben hiervoor spullen op locatie staan. \nNaar verwachting zullen we rond 16:00 uur weer terug zijn bij zorgboerderij Geusje’s Stee. \nHier kunnen we nog een praatje doen\, wat drinken en wat foto’s maken. \nAfhankelijk van het weer zullen we om 17:30 gaan barbecueën of de frietkar aanzetten. \nGraag vragen wij aan u om vooraf het bedrag over te maken. \nVoor iedere deelnemende auto vragen wij € 10\,- \nVoor iedere eter vragen wij € 15\,- exclusief drankjes (deze kunnen op de dag ook afgerekend worden). \nVermeld bij het overboeken: (Naam Deelnemer + Kenteken + Aantal Eters). \nDit kan naar rekeningnummer: NL48 RABO 0378 5638 07 \nLet op! De inschrijving is pas rond zodra het bedrag is overgemaakt. \nVoor degene die aangegeven hebben om een cliënt mee te laten rijden\, vragen wij om door te geven hoeveel plaatsen vrij zijn in de auto hiervoor. \nAlvast bedankt voor jullie medewerking en tot mei! \n  \nNa aanmelding van de oldtimer ontvangt u van ons een mail met daarin een bevestiging. In deze mail staat ook verdere uitleg over betaling.
URL:https://brommerritten.nl/ritten/oldtimerdag-nieuwe-tonge/
LOCATION:Korteweegje 52 Nieuwe-Tonge\, Korteweegje 52\, Nieuwe Tonge\, Zuid-Holland\, 3244AL\, Nederland
CATEGORIES:Auto,Bromfiets,Motor,Tractor,Truck
ATTACH;FMTTYPE=image/jpeg:https://brommerritten.nl/wp-content/uploads/2024/03/417583444_422077797049476_8469575946280087089_n.jpg
ORGANIZER;CN="Geusje's stee":MAILTO:info@oldtimerdagnieuwetonge.nl
END:VEVENT
END:VCALENDAR