BEGIN:VCALENDAR
VERSION:2.0
PRODID:-//Brommerritten.nl - ECPv6.9.0//NONSGML v1.0//EN
CALSCALE:GREGORIAN
METHOD:PUBLISH
X-WR-CALNAME:Brommerritten.nl
X-ORIGINAL-URL:https://brommerritten.nl
X-WR-CALDESC:Evenementen voor Brommerritten.nl
REFRESH-INTERVAL;VALUE=DURATION:PT1H
X-Robots-Tag:noindex
X-PUBLISHED-TTL:PT1H
BEGIN:VTIMEZONE
TZID:Europe/Amsterdam
BEGIN:DAYLIGHT
TZOFFSETFROM:+0100
TZOFFSETTO:+0200
TZNAME:CEST
DTSTART:20260329T010000
END:DAYLIGHT
BEGIN:STANDARD
TZOFFSETFROM:+0200
TZOFFSETTO:+0100
TZNAME:CET
DTSTART:20261025T010000
END:STANDARD
END:VTIMEZONE
BEGIN:VEVENT
DTSTART;TZID=Europe/Amsterdam:20260421T190000
DTEND;TZID=Europe/Amsterdam:20260421T213000
DTSTAMP:20260421T013605
CREATED:20251215T121335Z
LAST-MODIFIED:20251215T122312Z
UID:2913-1776798000-1776807000@brommerritten.nl
SUMMARY:Tulpenrit AMBC Staphorst
DESCRIPTION:Op dinsdagavond 21 april zal het brommerseizoen in Staphorst weer worden afgetrapt. Deze traditionele rit gaat naar de tulpenvelden bij Balkbrug vanaf de kantine van de motorclub. De organisatie hoopt op veel bromfietsen van Nederlandse makelij\, maar mocht u geen ander merk hebben dan is dat uiteraard geen probleem.
URL:https://brommerritten.nl/ritten/tulpenrit-ambc-staphorst/
LOCATION:Spoordijk 2 Staphorst\, Spoordijk 2\, Staphorst\, Overijssel\, 7951 LA\, Nederland
CATEGORIES:Bromfiets
ATTACH;FMTTYPE=image/jpeg:https://brommerritten.nl/wp-content/uploads/2024/03/AMBC_logo_2010_jpg.jpg
END:VEVENT
END:VCALENDAR