BEGIN:VCALENDAR
VERSION:2.0
PRODID:-//Brommerritten.nl - ECPv6.9.0//NONSGML v1.0//EN
CALSCALE:GREGORIAN
METHOD:PUBLISH
X-ORIGINAL-URL:https://brommerritten.nl
X-WR-CALDESC:Evenementen voor Brommerritten.nl
REFRESH-INTERVAL;VALUE=DURATION:PT1H
X-Robots-Tag:noindex
X-PUBLISHED-TTL:PT1H
BEGIN:VTIMEZONE
TZID:Europe/Amsterdam
BEGIN:DAYLIGHT
TZOFFSETFROM:+0100
TZOFFSETTO:+0200
TZNAME:CEST
DTSTART:20250330T010000
END:DAYLIGHT
BEGIN:STANDARD
TZOFFSETFROM:+0200
TZOFFSETTO:+0100
TZNAME:CET
DTSTART:20251026T010000
END:STANDARD
END:VTIMEZONE
BEGIN:VEVENT
DTSTART;TZID=Europe/Amsterdam:20250906T100000
DTEND;TZID=Europe/Amsterdam:20250906T170000
DTSTAMP:20260425T122241
CREATED:20240328T092321Z
LAST-MODIFIED:20250710T133308Z
UID:730-1757152800-1757178000@brommerritten.nl
SUMMARY:Oldtimerdag Tzummarum met toerrit
DESCRIPTION:6 september 2025 7e editie\n\n\n\n\n  \nVul bij bericht in met wat voor voertuig u komt\,trekker brommer\,auto\,motor.\nGeef hier bij het merk door van uw voertuig.\nGeef ook aan of je mee wil met de tourrit\nStarttijden tourrit zijn:\n11:00 1e groep auto’s/motoren\n11:15 Brommers\n11:30 Trekkers\n12:00 2e groep auto’s/motoren\n13:00 3e groep auto’s/motoren\nBij aankomst in Tzummarum wordt u door onze vrijwilligers opgevangen\, en u krijgt een plek toegewezen op aanwijzen van onze vrijwilliger.\nOp 6 september na aanmelding bij onze kraam bij het cafe het wapen van barradeel hoort u hoelaat uw groep vertrekt. U kunt helaas zelf niet indelen hoelaat u vetrekt\, als de groep vol is word u bij de volgende groep ingedeeld\, de tourrit is +- 1\,5 uur\nU bent welkom vanaf 10 uur
URL:https://brommerritten.nl/ritten/oldtimerdag-tzummarum-met-toerrit/
LOCATION:Buorren 51 Tzummarum\, Buorren 51\, Tzummarum\, Friesland\, 8851 EL\, Nederland
CATEGORIES:Auto,Bromfiets,Motor,Tractor
ATTACH;FMTTYPE=image/jpeg:https://brommerritten.nl/wp-content/uploads/2024/03/494094036_996322949363336_2408581510925498625_n.jpg
ORGANIZER;CN="Oldtimerdag Tzummarum":MAILTO:info@oldtimerdagtzummarum.nl
END:VEVENT
BEGIN:VEVENT
DTSTART;VALUE=DATE:20250913
DTEND;VALUE=DATE:20250914
DTSTAMP:20260425T122241
CREATED:20250323T111718Z
LAST-MODIFIED:20250323T111718Z
UID:2333-1757721600-1757807999@brommerritten.nl
SUMMARY:Kaasrit bij NVT Woerden
DESCRIPTION:De Kaasrit is een toerrit uit het historische motorverleden\, die in de vijftiger jaren van de vorige eeuw vanuit Woerden verreden werd. Tijdens het Nationaal Veteraan Treffen wordt deze traditie voortgezet. Deze rit door het ‘groene hart’ beslaat zo’n 40 kilometer over de mooiste landelijke wegen van de omgeving. De route is goed aangegeven middels duidelijke pijlen en de deelname is gratis. Bij onverhoopte pech kan er een beroep worden gedaan op de bezemwagen\, die ervoor zorgt dat uw voertuig weer naar het Exercitieveld wordt getransporteerd. \nDe Kaasrit\, zowel voor motoren als bromfietsen van 25 jaar en ouder\, kan individueel of in groepen gereden worden. Er hoeft niet tevoren voor worden ingeschreven. De vertrektijd is tussen 11:00 en 14:00 uur\, dus u kunt zelf beslissen op welk tijdstip u op pad gaat. Het vertrek vindt plaats vanaf het podium\, waar een foto genomen wordt die naderhand van de website te downloaden is. Een certficaat waar u deze foto op kunt plakken kunt u via de button onderaan deze pagina eveneens downloaden en uitprinten. \nBij vertrek wordt u vanaf het podium uitgeleide gedaan door een terzakekundige speaker. Gecertificeerde verkeersregelaars zorgen er bij de Kaasrit voor dat u veilig het terrein op en af kunt rijden.
URL:https://brommerritten.nl/ritten/kaasrit-bij-nvt-woerden/
LOCATION:Exercitieveld Woerden\, Excersitieveld\, Woerden\, Utrecht\, 3441 GC\, Nederland
CATEGORIES:Bromfiets,Motor
ATTACH;FMTTYPE=image/jpeg:https://brommerritten.nl/wp-content/uploads/2025/03/afb-evenement_2025.jpg
ORGANIZER;CN="Nationaal Veteraan Treffen":MAILTO:info@nationaalveteraantreffen.com
END:VEVENT
BEGIN:VEVENT
DTSTART;TZID=Europe/Amsterdam:20250913T100000
DTEND;TZID=Europe/Amsterdam:20250913T190000
DTSTAMP:20260425T122241
CREATED:20240906T115440Z
LAST-MODIFIED:20250811T140257Z
UID:1919-1757757600-1757790000@brommerritten.nl
SUMMARY:7e editie Harkiesbarrit Staphorst
DESCRIPTION:Er is weer iets leuks te doen in Staphorst: namelijk de 7e editie van Harkiesbarrit! Dit is een brom- en motorfiets rit met motoren en/of bromfietsen van +/- 25 jaar of ouder\, gereden door de omgeving van Staphorst en omstreken! Het terrein is vrij toegankelijk voor publiek\, dus je kan voor de rit de bromfietsen en motoren gaan bekijken. Ook is er een springkussen aanwezig is voor de kids. Zaterdag 13 september 2025 10:00 – 19:00 uur Voor publiek is het terrein vrij toegankelijk. \nEr is keuze om een route van 60 of een route van 90 kilometer te doen.
URL:https://brommerritten.nl/ritten/7e-editie-harkiesbarrit-staphorst/
LOCATION:Geerligsland 3 Staphorst\, Geerligsland 3\, Staphorst\, Overijssel\, 7951 DK\, Nederland
CATEGORIES:Bromfiets,Motor
ATTACH;FMTTYPE=image/jpeg:https://brommerritten.nl/wp-content/uploads/2024/09/cba8c65c-ad7f-49a8-879d-a5bb519938db.jpg
ORGANIZER;CN="Harkiesbar":MAILTO:info@harkiesbar.nl
END:VEVENT
BEGIN:VEVENT
DTSTART;TZID=Europe/Amsterdam:20250914T110000
DTEND;TZID=Europe/Amsterdam:20250914T170000
DTSTAMP:20260425T122241
CREATED:20250621T164226Z
LAST-MODIFIED:20250621T164226Z
UID:2688-1757847600-1757869200@brommerritten.nl
SUMMARY:Vechtdal Classic Toerrit Oudleusen
DESCRIPTION:
URL:https://brommerritten.nl/ritten/vechtdal-classic-toerrit-oudleusen/
LOCATION:Parallelstraat 2 Oudleusen\, Parallelstraat 2\, Oudleusen\, Overijssel\, 7722 TD\, Netherlands
CATEGORIES:Auto,Bromfiets,Motor,Tractor
ATTACH;FMTTYPE=image/jpeg:https://brommerritten.nl/wp-content/uploads/2025/06/489693162_538936269249081_306347685769071433_n.jpg
END:VEVENT
BEGIN:VEVENT
DTSTART;TZID=Europe/Amsterdam:20250928T100000
DTEND;TZID=Europe/Amsterdam:20250928T170000
DTSTAMP:20260425T122241
CREATED:20240414T073251Z
LAST-MODIFIED:20250827T145330Z
UID:1236-1759053600-1759078800@brommerritten.nl
SUMMARY:Oldtimer herfstrit "de Heuvelrijders" Gilze
DESCRIPTION:Jaarlijkse Herfstrit voor brommers\, motors en auto’s.\n\nInschrijven vanaf 10.00 uur\, vertrek van de voertuigen 11.30 uur
URL:https://brommerritten.nl/ritten/oldtimer-herfstrit-de-heuvelrijders-gilze/
LOCATION:Alphenseweg 14a\, Alphenseweg 14a\, Gilze\, Noord-Brabant\, 5126 PN\, Nederland
CATEGORIES:Auto,Bromfiets,Motor
ATTACH;FMTTYPE=image/jpeg:https://brommerritten.nl/wp-content/uploads/2024/04/Heuvelrijders-flyer-2025-scaled.jpg
ORGANIZER;CN="Heuvelrijders Gilze":MAILTO:heuvelrijdersgilze@home.nl
END:VEVENT
END:VCALENDAR