BEGIN:VCALENDAR
VERSION:2.0
PRODID:-//Brommerritten.nl - ECPv6.9.0//NONSGML v1.0//EN
CALSCALE:GREGORIAN
METHOD:PUBLISH
X-ORIGINAL-URL:https://brommerritten.nl
X-WR-CALDESC:Evenementen voor Brommerritten.nl
REFRESH-INTERVAL;VALUE=DURATION:PT1H
X-Robots-Tag:noindex
X-PUBLISHED-TTL:PT1H
BEGIN:VTIMEZONE
TZID:Europe/Amsterdam
BEGIN:DAYLIGHT
TZOFFSETFROM:+0100
TZOFFSETTO:+0200
TZNAME:CEST
DTSTART:20240331T010000
END:DAYLIGHT
BEGIN:STANDARD
TZOFFSETFROM:+0200
TZOFFSETTO:+0100
TZNAME:CET
DTSTART:20241027T010000
END:STANDARD
END:VTIMEZONE
BEGIN:VEVENT
DTSTART;TZID=Europe/Amsterdam:20240811T093000
DTEND;TZID=Europe/Amsterdam:20240811T170000
DTSTAMP:20260421T074525
CREATED:20240402T190855Z
LAST-MODIFIED:20240402T190855Z
UID:1106-1723368600-1723395600@brommerritten.nl
SUMMARY:De Kwakelrit Oud maar Sterk de Kwakel
DESCRIPTION:De KwakelritWanneer:    Zondag 11 augustus 2024 \nWaar:    Bij Café Cobus\, Drechtdijk 21 1424 RA De Kwakel \nVoor wie:    Bromfietsen en rolaandrijvers \nVerzamelen:    Melden vanaf: 9:30 uur \nVertrek:    Om 10:30 uur \nRitinformatie:    Toeren door Noord-Holland en Utrecht \nKosten:    Voor leden gratis\, voor niet-leden 5 euro \nInschrijven:    VERPLICHT vooraf inschrijven met naam en telefoonnummer\nbij Kees Hölscher tussen 18:00 en 20:00 uur \nTel. 06 16067667
URL:https://brommerritten.nl/ritten/de-kwakelrit-oud-maar-sterk-de-kwakel/
LOCATION:Drechtdijk 21 De Kwakel\, Drechtdijk 21\, De Kwakel\, Noord-Holland\, 1424 RA\, Nederland
CATEGORIES:Bromfiets
ATTACH;FMTTYPE=image/png:https://brommerritten.nl/wp-content/uploads/2024/04/OMSlogo400.png
ORGANIZER;CN="Oud maar Sterk":MAILTO:redactie@oudmaarsterk.nl
END:VEVENT
END:VCALENDAR