BEGIN:VCALENDAR
VERSION:2.0
PRODID:-//Brommerritten.nl - ECPv6.9.0//NONSGML v1.0//EN
CALSCALE:GREGORIAN
METHOD:PUBLISH
X-ORIGINAL-URL:https://brommerritten.nl
X-WR-CALDESC:Evenementen voor Brommerritten.nl
REFRESH-INTERVAL;VALUE=DURATION:PT1H
X-Robots-Tag:noindex
X-PUBLISHED-TTL:PT1H
BEGIN:VTIMEZONE
TZID:Europe/Amsterdam
BEGIN:DAYLIGHT
TZOFFSETFROM:+0100
TZOFFSETTO:+0200
TZNAME:CEST
DTSTART:20240331T010000
END:DAYLIGHT
BEGIN:STANDARD
TZOFFSETFROM:+0200
TZOFFSETTO:+0100
TZNAME:CET
DTSTART:20241027T010000
END:STANDARD
END:VTIMEZONE
BEGIN:VEVENT
DTSTART;TZID=Europe/Amsterdam:20240504T100000
DTEND;TZID=Europe/Amsterdam:20240504T170000
DTSTAMP:20260421T125248
CREATED:20240403T070456Z
LAST-MODIFIED:20240403T070456Z
UID:1127-1714816800-1714842000@brommerritten.nl
SUMMARY:Cyrus treffen en bromfietsrit Neer
DESCRIPTION:  \nLET OP: Uitsluitend voor Cyrus bromfietsen!
URL:https://brommerritten.nl/ritten/cyrus-treffen-en-bromfietsrit-neer/
LOCATION:Friedesemolen 2 Neer\, Friedesemolen 2\, Neer\, Limburg\, 6086 BN\, Nederland
CATEGORIES:Bromfiets
ATTACH;FMTTYPE=image/jpeg:https://brommerritten.nl/wp-content/uploads/2024/04/inbound8955075783724626048.jpg
END:VEVENT
END:VCALENDAR