BEGIN:VCALENDAR
VERSION:2.0
PRODID:-//Brommerritten.nl - ECPv6.9.0//NONSGML v1.0//EN
CALSCALE:GREGORIAN
METHOD:PUBLISH
X-ORIGINAL-URL:https://brommerritten.nl
X-WR-CALDESC:Evenementen voor Brommerritten.nl
REFRESH-INTERVAL;VALUE=DURATION:PT1H
X-Robots-Tag:noindex
X-PUBLISHED-TTL:PT1H
BEGIN:VTIMEZONE
TZID:Europe/Amsterdam
BEGIN:DAYLIGHT
TZOFFSETFROM:+0100
TZOFFSETTO:+0200
TZNAME:CEST
DTSTART:20240331T010000
END:DAYLIGHT
BEGIN:STANDARD
TZOFFSETFROM:+0200
TZOFFSETTO:+0100
TZNAME:CET
DTSTART:20241027T010000
END:STANDARD
END:VTIMEZONE
BEGIN:VEVENT
DTSTART;TZID=Europe/Amsterdam:20240928T113000
DTEND;TZID=Europe/Amsterdam:20240928T170000
DTSTAMP:20260421T104635
CREATED:20240414T074157Z
LAST-MODIFIED:20240915T171828Z
UID:1243-1727523000-1727542800@brommerritten.nl
SUMMARY:8e editie Brommertoertocht bij Trekkerbehendigheid Chaam
DESCRIPTION:Ook dit jaar is er natuurlijk weer een brommerrit! Ben jij erbij met jouw tweewieler op zaterdag 28 september voor de uitgepijlde rit? Het vertrek is vanaf 11.30 uur. Wij hebben alvast mooi weer besteld!De kraanbehendigheid start dit jaar om 16.00 uur. Dus wil je na jouw tocht nog een hapje en drankje op het terrein doen\, zorg dan dat je niet te vroeg terug bent!
URL:https://brommerritten.nl/ritten/8e-editie-brommertoertocht-bij-trekkerbehendigheid-chaam/
LOCATION:Bredaseweg 63 Chaam\, Bredaseweg 63\, Chaam\, Noord-Brabant\, 4861 TD\, Nederland
CATEGORIES:Bromfiets,Motor
ATTACH;FMTTYPE=image/jpeg:https://brommerritten.nl/wp-content/uploads/2024/04/chaam.jpg
ORGANIZER;CN="ver. Trekkerbehendigheid Chaam":MAILTO:trekkerbehendigheidchaam.nl
END:VEVENT
BEGIN:VEVENT
DTSTART;TZID=Europe/Amsterdam:20240928T120000
DTEND;TZID=Europe/Amsterdam:20240928T170000
DTSTAMP:20260421T104635
CREATED:20240410T194206Z
LAST-MODIFIED:20240410T194206Z
UID:1222-1727524800-1727542800@brommerritten.nl
SUMMARY:MGCN Brommerrit voor Italiaanse brommers Vessem
DESCRIPTION:Ook lichte motoren zijn natuurlijk van harte welkom (tot ongeveer 250cc). We rijden natuurlijk wel de brommer snelheid 40km. Aanvang: 12.00 en vertrekken met de rondrit 13.00 uur
URL:https://brommerritten.nl/ritten/mgcn-brommerrit-voor-italiaanse-brommers-vessem/
LOCATION:Heikesestraat 8A Vessem\, Heikesestraat 8A\, Vessem\, Noord-Brabant\, 5512 PA\, Nederland
CATEGORIES:Bromfiets,Motor
ATTACH;FMTTYPE=image/jpeg:https://brommerritten.nl/wp-content/uploads/2024/04/65d3414dcf0a8d2d4847ab00_KlassiekerBrommerrit.jpg
ORGANIZER;CN="Moto Guzzi Club Nederland":MAILTO:klassiekercommissie@mgcn.nl
END:VEVENT
BEGIN:VEVENT
DTSTART;TZID=Europe/Amsterdam:20240928T120000
DTEND;TZID=Europe/Amsterdam:20240928T180000
DTSTAMP:20260421T104635
CREATED:20240329T122800Z
LAST-MODIFIED:20240329T123003Z
UID:905-1727524800-1727546400@brommerritten.nl
SUMMARY:Moto Guzzi Club Klassieker Brommerrit
DESCRIPTION:Ook lichte motoren zijn natuurlijk van harte welkom (tot ongeveer 250cc). We rijden natuurlijk wel de brommer snelheid 40km. Aanvang: 12.00 en vertrekken met de rondrit 13.00 uur
URL:https://brommerritten.nl/ritten/moto-guzzi-club-klassieker-brommerrit/
LOCATION:Heikesestraat 8A Vessem\, Heikesestraat 8A\, Vessem\, Noord-Brabant\, 5512 PA\, Nederland
CATEGORIES:Bromfiets,Motor
ATTACH;FMTTYPE=image/jpeg:https://brommerritten.nl/wp-content/uploads/2024/03/65d3414dcf0a8d2d4847ab00_KlassiekerBrommerrit.jpg
ORGANIZER;CN="Moto Guzzi Club Nederland":MAILTO:klassiekercommissie@mgcn.nl
END:VEVENT
END:VCALENDAR