BEGIN:VCALENDAR
VERSION:2.0
PRODID:-//Brommerritten.nl - ECPv6.9.0//NONSGML v1.0//EN
CALSCALE:GREGORIAN
METHOD:PUBLISH
X-WR-CALNAME:Brommerritten.nl
X-ORIGINAL-URL:https://brommerritten.nl
X-WR-CALDESC:Evenementen voor Brommerritten.nl
REFRESH-INTERVAL;VALUE=DURATION:PT1H
X-Robots-Tag:noindex
X-PUBLISHED-TTL:PT1H
BEGIN:VTIMEZONE
TZID:Europe/Amsterdam
BEGIN:DAYLIGHT
TZOFFSETFROM:+0100
TZOFFSETTO:+0200
TZNAME:CEST
DTSTART:20240331T010000
END:DAYLIGHT
BEGIN:STANDARD
TZOFFSETFROM:+0200
TZOFFSETTO:+0100
TZNAME:CET
DTSTART:20241027T010000
END:STANDARD
BEGIN:DAYLIGHT
TZOFFSETFROM:+0100
TZOFFSETTO:+0200
TZNAME:CEST
DTSTART:20250330T010000
END:DAYLIGHT
BEGIN:STANDARD
TZOFFSETFROM:+0200
TZOFFSETTO:+0100
TZNAME:CET
DTSTART:20251026T010000
END:STANDARD
END:VTIMEZONE
BEGIN:VEVENT
DTSTART;TZID=Europe/Amsterdam:20250628T113000
DTEND;TZID=Europe/Amsterdam:20250628T170000
DTSTAMP:20260423T182353
CREATED:20240611T174417Z
LAST-MODIFIED:20250609T062710Z
UID:1634-1751110200-1751130000@brommerritten.nl
SUMMARY:Sproeifeest brommertocht Hoonhorst
DESCRIPTION:Dit jaar zal er een brommertocht worden georganiseerd (eigen risico). \nOpgeven kan via 06 24411782 of stuur een mailtje naar bromfietsrithoonhorst@gmail.com \nDe kosten bedragen 10 euro\, gelieve contant en gepast te betalen.
URL:https://brommerritten.nl/ritten/sproeifeest-brommertocht-hoonhorst/
LOCATION:Koelmansstraat 60 Hoonhorst\, Koelmansstraat 60\, Hoonhorst\, Overijssel\, 7722 LZ\, Nederland
CATEGORIES:Bromfiets
ATTACH;FMTTYPE=image/avif:https://brommerritten.nl/wp-content/uploads/2024/06/brommertthh_1749396850.avif
END:VEVENT
BEGIN:VEVENT
DTSTART;TZID=Europe/Amsterdam:20240714T100000
DTEND;TZID=Europe/Amsterdam:20240714T170000
DTSTAMP:20260423T182353
CREATED:20240330T122702Z
LAST-MODIFIED:20240330T122702Z
UID:1008-1720951200-1720976400@brommerritten.nl
SUMMARY:Toerrit Historisch Festival Luttenberg
DESCRIPTION:Beste festival deelnemers\, \nOp 14 juli 2024 wordt het Historisch Festival georganiseerd\, noteer deze alvast in uw agenda. \nHet Historisch Festival vindt net zoals vorig jaar weer plaats op het terrein van de manege aan de Looweg te Luttenberg. \nAan het programma voor dit jaar wordt nog hard gewerkt\, hou hiervoor onze site in de gaten! \nWat al vast staat is onze elk jaar terug kerende toertocht voor: oldtimers\, brommers en trekkers. \nHeb je machines of spullen die je wilt verkopen? Dan is dat ook mogelijk op de braderie van het festival. Meedoen?  meldt je nu alvast aan via de website. Heb je nog vragen? reageer op deze mail of bel \n06-24445355. \nAanmelden Historisch Festival
URL:https://brommerritten.nl/ritten/toerrit-historisch-festival-luttenberg/
LOCATION:Looweg 6a Luttenberg\, Looweg 6a\, Luttenberg\, Overijssel\, 8105 SL\, Nederland
CATEGORIES:Auto,Bromfiets,Motor,Tractor,Truck
END:VEVENT
BEGIN:VEVENT
DTSTART;TZID=Europe/Amsterdam:20240623T120000
DTEND;TZID=Europe/Amsterdam:20240623T170000
DTSTAMP:20260423T182353
CREATED:20240618T115558Z
LAST-MODIFIED:20240618T115558Z
UID:1684-1719144000-1719162000@brommerritten.nl
SUMMARY:Brommertocht Midzomerfeest Mariënheem
DESCRIPTION:BROMMERTOERTOCHT\n\nZondag\n10:00 – 14:00 uur\n\n\nDeelnemers aan de Sallandse Brommertoertocht (65km) kunnen zich om 10:00 uur inschrijven op het terrein\, we vertrekken om rond 11:00. Vooraf inschrijven kan via de website\, maar is niet verplicht.\nKosten: €10\,00 p.p. \n\nINSCHRIJVEN VOOR ACTIVITEIT\n\nDe grote brommertoertocht voor nieuwe en oldtimer bromfietsen. Een leuke toertocht van ongeveer 70 kilometer door het mooie Salland. Start en finish op het Midzomerterrein (Essenbree 38\, Mariënheem). \nInclusief koffie\, een gehaktbal en een consumptiemuntje achteraf. Alle deelnemers krijgen een schildje! \nKosten: €10\,00 p.p.\nBetaling bij aanmelding op het terrein \nAanmelden HIER
URL:https://brommerritten.nl/ritten/brommertocht-midzomerfeest-marienheem/
LOCATION:de Essenbree 38 Mariënheem\, de Essenbree 38\, Mariënheem\, Overijssel\, 8106 AR\, Nederland
CATEGORIES:Bromfiets
ATTACH;FMTTYPE=image/jpeg:https://brommerritten.nl/wp-content/uploads/2024/06/marienheem.jpg
END:VEVENT
END:VCALENDAR