BEGIN:VCALENDAR
VERSION:2.0
PRODID:-//Brommerritten.nl - ECPv6.9.0//NONSGML v1.0//EN
CALSCALE:GREGORIAN
METHOD:PUBLISH
X-WR-CALNAME:Brommerritten.nl
X-ORIGINAL-URL:https://brommerritten.nl
X-WR-CALDESC:Evenementen voor Brommerritten.nl
REFRESH-INTERVAL;VALUE=DURATION:PT1H
X-Robots-Tag:noindex
X-PUBLISHED-TTL:PT1H
BEGIN:VTIMEZONE
TZID:Europe/Amsterdam
BEGIN:DAYLIGHT
TZOFFSETFROM:+0100
TZOFFSETTO:+0200
TZNAME:CEST
DTSTART:20240331T010000
END:DAYLIGHT
BEGIN:STANDARD
TZOFFSETFROM:+0200
TZOFFSETTO:+0100
TZNAME:CET
DTSTART:20241027T010000
END:STANDARD
END:VTIMEZONE
BEGIN:VEVENT
DTSTART;TZID=Europe/Amsterdam:20240914T090000
DTEND;TZID=Europe/Amsterdam:20240914T170000
DTSTAMP:20260419T221308
CREATED:20240507T121651Z
LAST-MODIFIED:20240508T075418Z
UID:1470-1726304400-1726333200@brommerritten.nl
SUMMARY:Oldtimerdag Kallenkote
DESCRIPTION:Aanvang van de Oldtimerdag is 9.00 uur en de rit start om 11.00 uur.
URL:https://brommerritten.nl/ritten/oldtimerdag-kallenkote/
LOCATION:Kallenkote 63a Kallenkote\, Kallenkote 63a\, Kallenkote\, Overijssel\, 8345 HH\, Nederland
CATEGORIES:Auto,Bromfiets,Tractor
ATTACH;FMTTYPE=image/jpeg:https://brommerritten.nl/wp-content/uploads/2024/05/Kallenkote.jpg
END:VEVENT
END:VCALENDAR