BEGIN:VCALENDAR
VERSION:2.0
PRODID:-//Brommerritten.nl - ECPv6.9.0//NONSGML v1.0//EN
CALSCALE:GREGORIAN
METHOD:PUBLISH
X-WR-CALNAME:Brommerritten.nl
X-ORIGINAL-URL:https://brommerritten.nl
X-WR-CALDESC:Evenementen voor Brommerritten.nl
REFRESH-INTERVAL;VALUE=DURATION:PT1H
X-Robots-Tag:noindex
X-PUBLISHED-TTL:PT1H
BEGIN:VTIMEZONE
TZID:Europe/Amsterdam
BEGIN:DAYLIGHT
TZOFFSETFROM:+0100
TZOFFSETTO:+0200
TZNAME:CEST
DTSTART:20260329T010000
END:DAYLIGHT
BEGIN:STANDARD
TZOFFSETFROM:+0200
TZOFFSETTO:+0100
TZNAME:CET
DTSTART:20261025T010000
END:STANDARD
END:VTIMEZONE
BEGIN:VEVENT
DTSTART;TZID=Europe/Amsterdam:20260913T100000
DTEND;TZID=Europe/Amsterdam:20260913T170000
DTSTAMP:20260423T003409
CREATED:20240415T160414Z
LAST-MODIFIED:20260414T190854Z
UID:1321-1789293600-1789318800@brommerritten.nl
SUMMARY:19e Bromfiets Oldtimerrit Diessen
DESCRIPTION:
URL:https://brommerritten.nl/ritten/16e-bromfiets-oldtimerrit-diessen/
LOCATION:Kerkstraat 10 Diessen\, Kerkstraat 10\, Diessen\, Noord-Brabant\, 5087 BP\, Nederland
CATEGORIES:Bromfiets
ATTACH;FMTTYPE=image/jpeg:https://brommerritten.nl/wp-content/uploads/2024/04/Poster-BOC-2026-scaled.jpg
ORGANIZER;CN="BOC Diessen":MAILTO:anniehermans@home.nl
END:VEVENT
END:VCALENDAR